BEGIN:VCALENDAR
VERSION:2.0
PRODID:-//eventon.com NONSGML v1.0//EN
CALSCALE:GREGORIAN
METHOD:PUBLISH
BEGIN:VEVENT
UID:69e737743a38f
DTSTAMP:20260421T083812Z
DTSTART:20251129T023000Z
DTEND:20251129T050000Z
LOCATION:Festival Hall 1215 10 Ave SE
SUMMARY:Holiday Spirits Album Release Party!
DESCRIPTION:Step into the warmth of New Orleans soul and Calgary snow as Li
 ttle Brown Jug Brass kicks off their newest release Holiday Spirits at Fest
 ival Hall! Rooted in the spirit of community and celebration\,  this releas
 e party is more than a concert — it’s a gathering of friends\,  family\
 ,  and[..]\nhttps://lbjbrass.com/events/holiday-spirits-album-release-party
 /
URL:https://lbjbrass.com/events/holiday-spirits-album-release-party/
END:VEVENT
END:VCALENDAR