BEGIN:VCALENDAR
VERSION:2.0
PRODID:-//eventon.com NONSGML v1.0//EN
CALSCALE:GREGORIAN
METHOD:PUBLISH
BEGIN:VEVENT
UID:69e74eb4927f3
DTSTAMP:20260421T101724Z
DTSTART:20210925T140000Z
DTEND:20210925T235000Z
LOCATION:
SUMMARY:Private - Retirement Party
DESCRIPTION:Celebrating the beginning of a Life of Leasure!\nhttps://lbjbra
 ss.com/events/private-retirement-party/
URL:https://lbjbrass.com/events/private-retirement-party/
END:VEVENT
END:VCALENDAR